BEGIN:VCALENDAR
VERSION:2.0
PRODID:-//Site de la catéchèse et du catéchuménat - ECPv6.7.0//NONSGML v1.0//EN
CALSCALE:GREGORIAN
METHOD:PUBLISH
X-WR-CALNAME:Site de la catéchèse et du catéchuménat
X-ORIGINAL-URL:https://saintbrieuc-treguier.catholique.fr/catechese-catechumenat22
X-WR-CALDESC:Évènements pour Site de la catéchèse et du catéchuménat
REFRESH-INTERVAL;VALUE=DURATION:PT1H
X-Robots-Tag:noindex
X-PUBLISHED-TTL:PT1H
BEGIN:VTIMEZONE
TZID:Europe/Paris
BEGIN:DAYLIGHT
TZOFFSETFROM:+0100
TZOFFSETTO:+0200
TZNAME:CEST
DTSTART:20230326T010000
END:DAYLIGHT
BEGIN:STANDARD
TZOFFSETFROM:+0200
TZOFFSETTO:+0100
TZNAME:CET
DTSTART:20231029T010000
END:STANDARD
END:VTIMEZONE
BEGIN:VEVENT
DTSTART;TZID=Europe/Paris:20231110T093000
DTEND;TZID=Europe/Paris:20231110T170000
DTSTAMP:20260425T050726
CREATED:20230710T161404Z
LAST-MODIFIED:20230710T161458Z
UID:4718-1699608600-1699635600@saintbrieuc-treguier.catholique.fr
SUMMARY:Cycle d’études « Lire la Bible avec les questions d’aujourd’hui »
DESCRIPTION:La formation s’organise sur un format d’une journée de 9h30 à 17h\, à raison de six journées échelonnées de novembre 2023 à mai 2024. Les journées abordent chacune un thème différent et peuvent donc être suivies indépendamment les unes des autres. \nLes cours proposés\, avec des travaux de groupe adaptés\, seront disponibles en visioconférence à la Maison Saint-Yves\, 81 rue Mathurin Méheut\, à Saint-Brieuc. L’ensemble du cycle est organisé par l’Institut catholique de Paris (ICP) et peut être validé dans le cadre d’un cursus diplômant. \n\n10 novembre : « La Bible\, entre parole et écriture » avec Sophie RAMOND (ICP)\n8 décembre :    « Qui sont ma mère et mes frères? » – La famille en question avec Philippe Lefebvre (Université de Fribourg)\n19 janvier 2024 : De l’image à la parole avec Stéphane Beauboeuf (ICP)\n8 mars : Evangile et leadership avec Jean-Marc Liautaud ( Fondacio)\n5 avril : La bouleversante logique du Magnificat pour riches et pauvres avec Christophe Pichon\, ( Centre Sèvres – Faculté jésuites Paris)\n17 mai : Manger – consommer avec Béatrice Oiry (ICP)\n\nContact et inscription : Service de formation au 02 96 68 13 41 ou surformationpermanente@diocese22.fr (à noter que l’inscription est nécessaire pour chaque journée). \nFrais d’inscription à régler lors de l’inscription par chèque à l’ordre de A.D. Saint-Brieuc et Tréguier. \n 
URL:https://saintbrieuc-treguier.catholique.fr/catechese-catechumenat22/event/cycle-detudes-lire-la-bible-avec-les-questions-daujourdhui/
LOCATION:Maison Saint-Yves\, 81 rue Mathurin Méheut\, Saint-Brieuc\, 22000\, France
END:VEVENT
END:VCALENDAR