BEGIN:VCALENDAR
VERSION:2.0
PRODID:-//Site de la catéchèse et du catéchuménat - ECPv6.7.0//NONSGML v1.0//EN
CALSCALE:GREGORIAN
METHOD:PUBLISH
X-WR-CALNAME:Site de la catéchèse et du catéchuménat
X-ORIGINAL-URL:https://saintbrieuc-treguier.catholique.fr/catechese-catechumenat22
X-WR-CALDESC:Évènements pour Site de la catéchèse et du catéchuménat
REFRESH-INTERVAL;VALUE=DURATION:PT1H
X-Robots-Tag:noindex
X-PUBLISHED-TTL:PT1H
BEGIN:VTIMEZONE
TZID:Europe/Paris
BEGIN:DAYLIGHT
TZOFFSETFROM:+0100
TZOFFSETTO:+0200
TZNAME:CEST
DTSTART:20240331T010000
END:DAYLIGHT
BEGIN:STANDARD
TZOFFSETFROM:+0200
TZOFFSETTO:+0100
TZNAME:CET
DTSTART:20241027T010000
END:STANDARD
END:VTIMEZONE
BEGIN:VEVENT
DTSTART;VALUE=DATE:20240218
DTEND;VALUE=DATE:20240219
DTSTAMP:20260424T184052
CREATED:20230710T162740Z
LAST-MODIFIED:20230710T162740Z
UID:4722-1708214400-1708300799@saintbrieuc-treguier.catholique.fr
SUMMARY:Célébration de l'appel décisif
DESCRIPTION:Pour les catéchumènes adolescents (13 ans et plus) et adultes :\nDimanche 18 février 2024\nInfos : catechumenat@diocese22.fr
URL:https://saintbrieuc-treguier.catholique.fr/catechese-catechumenat22/event/celebration-de-lappel-decisif/
ORGANIZER;CN="Service de la cat%C3%A9ch%C3%A8se et du cat%C3%A9chum%C3%A9nat (SDCC)":MAILTO:catechese.st.brieuc@diocese22.fr
END:VEVENT
END:VCALENDAR