BEGIN:VCALENDAR
VERSION:2.0
PRODID:-//Site de la catéchèse et du catéchuménat - ECPv6.7.0//NONSGML v1.0//EN
CALSCALE:GREGORIAN
METHOD:PUBLISH
X-ORIGINAL-URL:https://saintbrieuc-treguier.catholique.fr/catechese-catechumenat22
X-WR-CALDESC:Évènements pour Site de la catéchèse et du catéchuménat
REFRESH-INTERVAL;VALUE=DURATION:PT1H
X-Robots-Tag:noindex
X-PUBLISHED-TTL:PT1H
BEGIN:VTIMEZONE
TZID:Europe/Paris
BEGIN:DAYLIGHT
TZOFFSETFROM:+0100
TZOFFSETTO:+0200
TZNAME:CEST
DTSTART:20230326T010000
END:DAYLIGHT
BEGIN:STANDARD
TZOFFSETFROM:+0200
TZOFFSETTO:+0100
TZNAME:CET
DTSTART:20231029T010000
END:STANDARD
END:VTIMEZONE
BEGIN:VEVENT
DTSTART;TZID=Europe/Paris:20230304T093000
DTEND;TZID=Europe/Paris:20230304T123000
DTSTAMP:20260426T021404
CREATED:20230213T113448Z
LAST-MODIFIED:20230213T153729Z
UID:4283-1677922200-1677933000@saintbrieuc-treguier.catholique.fr
SUMMARY:Parole gestuée en catéchèse
DESCRIPTION:Formation à la parole gestuée à destination des catéchistes. \nIntervenante : Anne-Marie Le Doré \n[ S’inscrire à la formation ] \nLa gestuation\, c’est la mise en œuvre d’un récitatif biblique\, c’est-à-dire d’un passage de la Bible\, plus ou moins long\, dans une traduction rythmée\, accompagné d’une mélodie et de gestes. Mais c’est surtout – et ceux qui les pratiquent le savent bien – un temps pour accueillir la Parole de Dieu avec tout son être. En effet\, le corps de celui qui récite\, son affectivité\, son intelligence\, son histoire sont impliqués dans la réception globale de la Parole ; grâce à eux\, elle s’inscrit de manière active dans la mémoire. La mélodie et les gestes rendent attentif à chaque détail du texte\, ils viennent amplifier la perception de la Parole\, lui donner de l’épaisseur et de la chair. [ En savoir plus ]
URL:https://saintbrieuc-treguier.catholique.fr/catechese-catechumenat22/event/parole-gestuee/
LOCATION:Maison Saint-Yves\, 81 rue Mathurin Méheut\, Saint-Brieuc\, 22000\, France
ORGANIZER;CN="Service de la cat%C3%A9ch%C3%A8se et du cat%C3%A9chum%C3%A9nat (SDCC)":MAILTO:catechese.st.brieuc@diocese22.fr
END:VEVENT
BEGIN:VEVENT
DTSTART;TZID=Europe/Paris:20230309T130000
DTEND;TZID=Europe/Paris:20230309T143000
DTSTAMP:20260426T021404
CREATED:20230213T140329Z
LAST-MODIFIED:20230213T140543Z
UID:4315-1678366800-1678372200@saintbrieuc-treguier.catholique.fr
SUMMARY:Café visio des catéchistes
DESCRIPTION:  \nProchaines dates : \n\nJeudi 9 mars\, de 13h00 à 14h30\,\nVendredi 14 avril\, de 13h00 à 14h30\,\nVendredi 16 juin\, de 13h00 à 14h30.\n\n  \n[ demander le lien de connexion par mail] \n 
URL:https://saintbrieuc-treguier.catholique.fr/catechese-catechumenat22/event/cafe-visio-des-catechistes/
LOCATION:en ligne
ORGANIZER;CN="Service de la cat%C3%A9ch%C3%A8se et du cat%C3%A9chum%C3%A9nat (SDCC)":MAILTO:catechese.st.brieuc@diocese22.fr
END:VEVENT
BEGIN:VEVENT
DTSTART;TZID=Europe/Paris:20230325T093000
DTEND;TZID=Europe/Paris:20230325T160000
DTSTAMP:20260426T021404
CREATED:20230213T134609Z
LAST-MODIFIED:20230213T135342Z
UID:4292-1679736600-1679760000@saintbrieuc-treguier.catholique.fr
SUMMARY:Journée diocésaine des enfants en marche vers le baptême
DESCRIPTION:Tu as entre 7 et 13 ans ? \nTu commences ou poursuis ton chemin vers le baptême ? \nTu découvres avec d’autres que Jésus t’appelle à le suivre ? \nTu n’es pas tout seul à vivre cette aventure ! \nViens rencontrer d’autres enfants qui cheminent comme toi vers le grand jour de leur baptême ! \nTes parents sont aussi invités à vivre cette journée. \nUn temps d’échange leur sera proposé. \nMerci de prévoir le pique-nique du midi et une gourde. \n[Télécharger le tract d’inscription à remettre aux catéchistes des enfants.] \n 
URL:https://saintbrieuc-treguier.catholique.fr/catechese-catechumenat22/event/journee-diocesaine-des-enfants-en-marche-vers-le-bapteme/
LOCATION:Maison Saint-Yves\, 81 rue Mathurin Méheut\, Saint-Brieuc\, 22000\, France
ORGANIZER;CN="Service de la cat%C3%A9ch%C3%A8se et du cat%C3%A9chum%C3%A9nat (SDCC)":MAILTO:catechese.st.brieuc@diocese22.fr
END:VEVENT
END:VCALENDAR