BEGIN:VCALENDAR
VERSION:2.0
PRODID:-//Site de la catéchèse et du catéchuménat - ECPv6.7.0//NONSGML v1.0//EN
CALSCALE:GREGORIAN
METHOD:PUBLISH
X-WR-CALNAME:Site de la catéchèse et du catéchuménat
X-ORIGINAL-URL:https://saintbrieuc-treguier.catholique.fr/catechese-catechumenat22
X-WR-CALDESC:Évènements pour Site de la catéchèse et du catéchuménat
REFRESH-INTERVAL;VALUE=DURATION:PT1H
X-Robots-Tag:noindex
X-PUBLISHED-TTL:PT1H
BEGIN:VTIMEZONE
TZID:Europe/Paris
BEGIN:DAYLIGHT
TZOFFSETFROM:+0100
TZOFFSETTO:+0200
TZNAME:CEST
DTSTART:20230326T010000
END:DAYLIGHT
BEGIN:STANDARD
TZOFFSETFROM:+0200
TZOFFSETTO:+0100
TZNAME:CET
DTSTART:20231029T010000
END:STANDARD
END:VTIMEZONE
BEGIN:VEVENT
DTSTART;TZID=Europe/Paris:20230622T093000
DTEND;TZID=Europe/Paris:20230622T170000
DTSTAMP:20260425T132414
CREATED:20230213T143714Z
LAST-MODIFIED:20230213T162648Z
UID:4339-1687426200-1687453200@saintbrieuc-treguier.catholique.fr
SUMMARY:Forum de la créativité
DESCRIPTION:Les objectifs de cette journée : \n\nPermettre aux catéchistes du diocèse de se rencontrer\, d’échanger et de vivre ensemble ce temps fort\nPrésenter des initiatives originales\, des idées mises en œuvre dans les paroisses\nA travers les découvertes et les échanges\, se laisser inspirer pour renouveler nos projets catéchétiques pour la rentrée suivante
URL:https://saintbrieuc-treguier.catholique.fr/catechese-catechumenat22/event/forum-de-la-creativite/
LOCATION:Maison Saint-Yves\, 81 rue Mathurin Méheut\, Saint-Brieuc\, 22000\, France
ORGANIZER;CN="Service de la cat%C3%A9ch%C3%A8se et du cat%C3%A9chum%C3%A9nat (SDCC)":MAILTO:catechese.st.brieuc@diocese22.fr
END:VEVENT
END:VCALENDAR