BEGIN:VCALENDAR
VERSION:2.0
PRODID:-//Site de la catéchèse et du catéchuménat - ECPv6.7.0//NONSGML v1.0//EN
CALSCALE:GREGORIAN
METHOD:PUBLISH
X-WR-CALNAME:Site de la catéchèse et du catéchuménat
X-ORIGINAL-URL:https://saintbrieuc-treguier.catholique.fr/catechese-catechumenat22
X-WR-CALDESC:Évènements pour Site de la catéchèse et du catéchuménat
REFRESH-INTERVAL;VALUE=DURATION:PT1H
X-Robots-Tag:noindex
X-PUBLISHED-TTL:PT1H
BEGIN:VTIMEZONE
TZID:Europe/Paris
BEGIN:DAYLIGHT
TZOFFSETFROM:+0100
TZOFFSETTO:+0200
TZNAME:CEST
DTSTART:20230326T010000
END:DAYLIGHT
BEGIN:STANDARD
TZOFFSETFROM:+0200
TZOFFSETTO:+0100
TZNAME:CET
DTSTART:20231029T010000
END:STANDARD
END:VTIMEZONE
BEGIN:VEVENT
DTSTART;TZID=Europe/Paris:20231007T120000
DTEND;TZID=Europe/Paris:20231007T220000
DTSTAMP:20260425T050726
CREATED:20230710T155518Z
LAST-MODIFIED:20230710T155818Z
UID:4708-1696680000-1696716000@saintbrieuc-treguier.catholique.fr
SUMMARY:2ème édition de la Cousinade « à la mode de Bretagne » à La Ville Davy (Quessoy)
DESCRIPTION:Samedi 07 octobre 2023 (12h-22h)\, la Cousinade « à la mode de Bretagne » revient pour une deuxième édition à La Ville Davy à Quessoy ! Le pôle de formation met à disposition\, cette année encore\, ses différents espaces ! Rendez-vous donc au 51 rue de la Corderie\, 22120 Quessoy. On compte sur votre présence et votre bonne humeur ! N’hésitez pas à en parler autour de vous !
URL:https://saintbrieuc-treguier.catholique.fr/catechese-catechumenat22/event/2eme-edition-de-la-cousinade-a-la-mode-de-bretagne-a-la-ville-davy-quessoy/
LOCATION:La ville Davy\, Quessoy\, 51 rue de la Corderie\, Quessoy\, 22120\, France
ORGANIZER;CN="Pastorale des familles":MAILTO:famillesdiocese22@gmail.com
END:VEVENT
END:VCALENDAR