BEGIN:VCALENDAR
VERSION:2.0
PRODID:-//Site de la catéchèse et du catéchuménat - ECPv6.7.0//NONSGML v1.0//EN
CALSCALE:GREGORIAN
METHOD:PUBLISH
X-WR-CALNAME:Site de la catéchèse et du catéchuménat
X-ORIGINAL-URL:https://saintbrieuc-treguier.catholique.fr/catechese-catechumenat22
X-WR-CALDESC:Évènements pour Site de la catéchèse et du catéchuménat
REFRESH-INTERVAL;VALUE=DURATION:PT1H
X-Robots-Tag:noindex
X-PUBLISHED-TTL:PT1H
BEGIN:VTIMEZONE
TZID:Europe/Paris
BEGIN:DAYLIGHT
TZOFFSETFROM:+0100
TZOFFSETTO:+0200
TZNAME:CEST
DTSTART:20240331T010000
END:DAYLIGHT
BEGIN:STANDARD
TZOFFSETFROM:+0200
TZOFFSETTO:+0100
TZNAME:CET
DTSTART:20241027T010000
END:STANDARD
END:VTIMEZONE
BEGIN:VEVENT
DTSTART;VALUE=DATE:20240413
DTEND;VALUE=DATE:20240414
DTSTAMP:20260423T232655
CREATED:20230710T165639Z
LAST-MODIFIED:20230710T165639Z
UID:4732-1712966400-1713052799@saintbrieuc-treguier.catholique.fr
SUMMARY:Journée de retraite des jeunes qui se préparent à la profession de foi - appel à la confirmation
DESCRIPTION:Journée de retraite des jeunes qui se préparent à la profession de foi – appel à la confirmation\nSamedi 13 avril  2024\nLieu à définir\nInfos : catechese.st.brieuc@diocese22.fr
URL:https://saintbrieuc-treguier.catholique.fr/catechese-catechumenat22/event/journee-de-retraite-des-jeunes-qui-se-preparent-a-la-profession-de-foi-appel-a-la-confirmation/
ORGANIZER;CN="Service de la cat%C3%A9ch%C3%A8se et du cat%C3%A9chum%C3%A9nat (SDCC)":MAILTO:catechese.st.brieuc@diocese22.fr
END:VEVENT
BEGIN:VEVENT
DTSTART;TZID=Europe/Paris:20240422T080000
DTEND;TZID=Europe/Paris:20240427T170000
DTSTAMP:20260423T232655
CREATED:20230710T165846Z
LAST-MODIFIED:20230710T165846Z
UID:4735-1713772800-1714237200@saintbrieuc-treguier.catholique.fr
SUMMARY:Pèlerinage des jeunes à Lourdes
DESCRIPTION:Pèlerinage des jeunes à Lourdes\nDu 22 au 27 avril 2024\nPlus d’infos : service diocésain de la \npastorale des jeunes\, pastojeunes@diocese22.fr
URL:https://saintbrieuc-treguier.catholique.fr/catechese-catechumenat22/event/pelerinage-des-jeunes-a-lourdes/
END:VEVENT
BEGIN:VEVENT
DTSTART;TZID=Europe/Paris:20240428T080000
DTEND;TZID=Europe/Paris:20240505T170000
DTSTAMP:20260423T232655
CREATED:20230710T170028Z
LAST-MODIFIED:20230710T170029Z
UID:4738-1714291200-1714928400@saintbrieuc-treguier.catholique.fr
SUMMARY:Pèlerinage des jeunes à Taizé
DESCRIPTION:Pèlerinage des jeunes à Taizé\nSemaine du 28 avril-5 mai 2024\nPlus d’infos : service diocésain de la pastorale des jeunes\, pastojeunes@diocese22.fr
URL:https://saintbrieuc-treguier.catholique.fr/catechese-catechumenat22/event/pelerinage-des-jeunes-a-taize/
END:VEVENT
END:VCALENDAR