BEGIN:VCALENDAR
VERSION:2.0
PRODID:-//Site de la catéchèse et du catéchuménat - ECPv6.7.0//NONSGML v1.0//EN
CALSCALE:GREGORIAN
METHOD:PUBLISH
X-WR-CALNAME:Site de la catéchèse et du catéchuménat
X-ORIGINAL-URL:https://saintbrieuc-treguier.catholique.fr/catechese-catechumenat22
X-WR-CALDESC:Évènements pour Site de la catéchèse et du catéchuménat
REFRESH-INTERVAL;VALUE=DURATION:PT1H
X-Robots-Tag:noindex
X-PUBLISHED-TTL:PT1H
BEGIN:VTIMEZONE
TZID:Europe/Paris
BEGIN:DAYLIGHT
TZOFFSETFROM:+0100
TZOFFSETTO:+0200
TZNAME:CEST
DTSTART:20240331T010000
END:DAYLIGHT
BEGIN:STANDARD
TZOFFSETFROM:+0200
TZOFFSETTO:+0100
TZNAME:CET
DTSTART:20241027T010000
END:STANDARD
END:VTIMEZONE
BEGIN:VEVENT
DTSTART;TZID=Europe/Paris:20240608T203000
DTEND;TZID=Europe/Paris:20240608T223000
DTSTAMP:20260423T232655
CREATED:20240528T120519Z
LAST-MODIFIED:20240528T120835Z
UID:5752-1717878600-1717885800@saintbrieuc-treguier.catholique.fr
SUMMARY:Veillée de prières avec Avelig
DESCRIPTION:Veillée de prières avec Avelig\, samedi 8 juin 2024\, à 20h30\, à l’église de Saint Laurent de la Mer\, Plérin.
URL:https://saintbrieuc-treguier.catholique.fr/catechese-catechumenat22/event/veillee-de-prieres-avec-avelig/
LOCATION:église Saint Laurent de la Mer\, Plérin\, Plérin\, France
ATTACH;FMTTYPE=image/jpeg:https://saintbrieuc-treguier.catholique.fr/catechese-catechumenat22/wp-content/uploads/sites/14/2024/05/avelig-8-juin-24-plerin_page-0001.jpg
END:VEVENT
BEGIN:VEVENT
DTSTART;VALUE=DATE:20240620
DTEND;VALUE=DATE:20240621
DTSTAMP:20260423T232655
CREATED:20230710T170502Z
LAST-MODIFIED:20240528T120402Z
UID:4741-1718841600-1718927999@saintbrieuc-treguier.catholique.fr
SUMMARY:Journée diocésaine des catéchistes
DESCRIPTION:Journée diocésaine des catéchistes\nJeudi 20 juin 2024\nMaison Saint Yves\nInfos : catechese.st.brieuc@diocese22.fr \n 
URL:https://saintbrieuc-treguier.catholique.fr/catechese-catechumenat22/event/journee-diocesaine-des-catechistes/
LOCATION:Maison Saint-Yves\, 81 rue Mathurin Méheut\, Saint-Brieuc\, 22000\, France
ORGANIZER;CN="Service de la cat%C3%A9ch%C3%A8se et du cat%C3%A9chum%C3%A9nat (SDCC)":MAILTO:catechese.st.brieuc@diocese22.fr
END:VEVENT
END:VCALENDAR