BEGIN:VCALENDAR
VERSION:2.0
PRODID:-//L&#039;Église Catholique en Côtes d&#039;Armor - ECPv6.7.0//NONSGML v1.0//EN
CALSCALE:GREGORIAN
METHOD:PUBLISH
X-WR-CALNAME:L&#039;Église Catholique en Côtes d&#039;Armor
X-ORIGINAL-URL:https://saintbrieuc-treguier.catholique.fr
X-WR-CALDESC:Évènements pour L&#039;Église Catholique en Côtes d&#039;Armor
REFRESH-INTERVAL;VALUE=DURATION:PT1H
X-Robots-Tag:noindex
X-PUBLISHED-TTL:PT1H
BEGIN:VTIMEZONE
TZID:Europe/Paris
BEGIN:DAYLIGHT
TZOFFSETFROM:+0100
TZOFFSETTO:+0200
TZNAME:CEST
DTSTART:20260329T010000
END:DAYLIGHT
BEGIN:STANDARD
TZOFFSETFROM:+0200
TZOFFSETTO:+0100
TZNAME:CET
DTSTART:20261025T010000
END:STANDARD
END:VTIMEZONE
BEGIN:VEVENT
DTSTART;VALUE=DATE:20260417
DTEND;VALUE=DATE:20260420
DTSTAMP:20260424T095048
CREATED:20260129T153048Z
LAST-MODIFIED:20260129T153226Z
UID:43994-1776384000-1776643199@saintbrieuc-treguier.catholique.fr
SUMMARY:La communauté pastorale de Paimpol et de Plouha accueille les WEMPS\, des jeunes en mission paroissiale
DESCRIPTION:Dans quelques semaines\, une équipe d’étudiants et de jeunes actifs venus de toute la France vont permettre à notre communautés pastorale de vivre un temps-fort de mission paroissiale. Ces jeunes proposent aux paroissiens qui le souhaitent de sortir à la rencontre des habitants. Invitant ainsi tous les habitants à (re-)découvrir la communauté paroissiale pour se connaître et faire ensemble un pas de plus vers le Christ. Une session de WEMPS comporte en général trois ou quatre week-ends. \nDeux week-ends sur la communauté pastorale de Paimpol / Plouha : \n\n– Du 17 et 19 avril 2026 à l’église Saint-Pierre à Plouha [ S’inscrire ]\n– Du 23 au 25 mai 2026 à l’église Notre-Dame de Bonne Nouvelle à Plaimpol [ S’inscrire ]\n\nQue fait-on lors d’un WEMPS ? \n\n– Vendredi soir : Arrivée des participants en train ou en covoiturage – Soirée d’accueil\n– Samedi matin : Accueil des paroissiens qui participent à l’ensemble du week-end\, messe d’envoi en mission\, temps de formation et de mission\n– Samedi après-midi : Par équipes\, temps de mission directe\, de prière (adoration animée dans l’église de la commune) et de service (tenue d’un stand-kermesse sur une place centrale ou sur le parvis d’une église…)\n– Samedi soir : Concert de chants organisé par les jeunes des WEMPS\, suivi d’un apéritif offert à tous et d’une soirée conviviale (barbecue\, raclette…). Veillée de prière\, d’adoration et de confessions.\n– Dimanche : Animation de la messe dominicale\, suivie d’un apéritif. Déjeuner\, temps de relecture en équipes et clôture du week-end en début d’après-midi.\n\nUn bel élan missionnaire en perspective ! N’hésitez donc pas à vous faire connaître pour participer à cette belle aventure pastorale : \n\n– Paroisse de Plouha : 02 96 20 21 31 / paroisse.plouha@diocese22.fr\n– Paroisse de Paimpol : 02 96 20 81 70 / paroisse.paimpol@diocese22.fr\n\nPour aller plus loin : \n\n– Accueillir les WEMPS : wemps.fr/paroisses#accueillir-les-WEMPS\n– Histoire de l’association : wemps.fr/a-propos#histoire-association
URL:https://saintbrieuc-treguier.catholique.fr/event/communaute-pastorale-paimpol-plouha-wemps-avril-2026/
LOCATION:Eglise Saint-Pierre de Plouha\, Place Foch\, Plouha\, 22580\, France
CATEGORIES:Autres
END:VEVENT
BEGIN:VEVENT
DTSTART;VALUE=DATE:20260419
DTEND;VALUE=DATE:20260426
DTSTAMP:20260424T095048
CREATED:20260119T153738Z
LAST-MODIFIED:20260119T153738Z
UID:43838-1776556800-1777161599@saintbrieuc-treguier.catholique.fr
SUMMARY:Pèlerinage Montfortain 2026 à Lourdes
DESCRIPTION:Du 19 au 25 avril 2026 : Pèlerinage Montfortain à Lourdes sur le thème « Je te salue\, comblée de grâce\, le Seigneur est avec toi »\, et sous la présidence du Père Rui Manuel Sousa Valerio\, patriarche de Lisbonne. \nLe mot des organisateurs : « Nous nous unirons aux pèlerins valides\, malades ou handicapés pour certains temps forts : les célébrations eucharistiques\, le sacrement du Pardon\, l’onction des malades\, les processions (eucharistique et mariale – aux flambeaux)\, les conférences et les échanges sur la vie et les Écrits de saint Louis-Marie de Montfort. Comme Sainte Bernadette\, saint Louis-Marie de Montfort\, bienheureuse Marie-Louise de Jésus\, nous répondrons à Marie à Cana en écoutant et en appliquant les Paroles du Christ… » \nResponsable de Saint-Brieuc : M. Frédéric CORSON au 06 07 31 17 09 ou stbrieuc@montfortain.fr \n\n\nEn savoir plus sur l’Association Montfortaine : Le 20 juillet 1947\, la canonisation de Saint Louis-Marie de Montfort est proclamée à Rome par le Pape Pie XII. Quelques mois plus tard\, le 7 octobre\, à l’occasion du 39ème Pèlerinage du Rosaire\, Mgr Théas\, alors évêque de Lourdes\, reçoit solennellement la châsse contenant les reliques du Père de Montfort. La spiritualité mariale montfortaine était appelée à prendre sa place dans les pèlerinages. L’Association Montfortaine regroupe aujourd’hui 22 centres en France. Elle organise chaque année à Lourdes un pèlerinage regroupant des pèlerins malades et handicapés et des pèlerins bien-portants. Fidèle à la spiritualité montfortaine\, à l’écoute des plus faibles\, l’hospitalité Montfortaine conduit tout au long de l’année des actions dans ses centres : journées d’amitié\, participation à des évènements diocésains\, marches sur les pas de Saint Louis Marie Grignion de Montfort. L’esprit hospitalier inspire tous les membres de l’Hospitalité Montfortaine. Un esprit basé sur l’attention\, l’écoute et le service. Pour devenir hospitalier\, il faut avoir servi durant trois années au pèlerinage de Lourdes. Les hospitaliers prononcent leur engagement lors d’une messe solennelle\, à Lourdes\, durant le pèlerinage. Ils prononcent cette belle phrase « Me voici ! »\, qui matérialise un engagement formel\, public\, prononcé au milieu des pèlerins malades et des autres hospitaliers. \nEn savoir plus : www.pelerinage-montfortain-hospitalite.org
URL:https://saintbrieuc-treguier.catholique.fr/event/pelerinage-montfortain-2026-lourdes/
LOCATION:Sanctuaire Notre-Dame de Lourdes\, 1 avenue Mgr Théas\, Lourdes\, 65100\, France
CATEGORIES:Services et mouvements
ORGANIZER;CN="Association Montfortaine":MAILTO:https://www.pelerinage-montfortain-hospitalite.org/les-centres/centre-22/
END:VEVENT
END:VCALENDAR