BEGIN:VCALENDAR
VERSION:2.0
PRODID:-//L&#039;Église Catholique en Côtes d&#039;Armor - ECPv6.7.0//NONSGML v1.0//EN
CALSCALE:GREGORIAN
METHOD:PUBLISH
X-ORIGINAL-URL:https://saintbrieuc-treguier.catholique.fr
X-WR-CALDESC:Évènements pour L&#039;Église Catholique en Côtes d&#039;Armor
REFRESH-INTERVAL;VALUE=DURATION:PT1H
X-Robots-Tag:noindex
X-PUBLISHED-TTL:PT1H
BEGIN:VTIMEZONE
TZID:Europe/Paris
BEGIN:DAYLIGHT
TZOFFSETFROM:+0100
TZOFFSETTO:+0200
TZNAME:CEST
DTSTART:20260329T010000
END:DAYLIGHT
BEGIN:STANDARD
TZOFFSETFROM:+0200
TZOFFSETTO:+0100
TZNAME:CET
DTSTART:20261025T010000
END:STANDARD
END:VTIMEZONE
BEGIN:VEVENT
DTSTART;TZID=Europe/Paris:20260331T183000
DTEND;TZID=Europe/Paris:20260331T183000
DTSTAMP:20260425T212812
CREATED:20260212T103153Z
LAST-MODIFIED:20260212T103153Z
UID:44085-1774981800-1774981800@saintbrieuc-treguier.catholique.fr
SUMMARY:Messe chrismale 2026
DESCRIPTION:Mardi 31 mars 2026 (18h30) : messe chrismale à la cathédrale Saint-Etienne de Saint-Brieuc \nLa messe chrismale a lieu durant la Semaine Sainte : dans le rite catholique latin\, la messe chrismale n’appartient pas\, au sens strict\, au Triduum pascal. Durant la messe chrismale\, l’évêque bénit les autres huiles saintes et consacre le Saint Chrême. Cette huile servira dès les baptêmes de Pâques puis tout au long de l’année pour les sacrements du baptême\, de la confirmation et de l’ordre. Au cours de cette messe qui manifeste l’unité de toute l’Église diocésaine autour de son évêque\, les prêtres renouvellent leurs promesses sacerdotales : vivre toujours plus unis au Seigneur Jésus\, chercher à lui ressembler\, renoncer à eux-mêmes\, être fidèles aux engagements attachés à la charge ministérielle\, célébrer les sacrements\, annoncer la Parole de Dieu avec désintéressement et charité. \nTous invités à la messe chrismale : un acte d’unité pour toute l’Église ! \n\n– Parce que c’est s’associer au renouvellement du lien entre l’évêque\, ses prêtres\, ses diacres\, les consacrés et tout le peuple des baptisés.\n– Parce que c’est là que sont bénies les huiles qui porteront la grâce des sacrements tout au long de l’année.\n– Parce que les prêtres et les diacres renouvellent leurs promesses devant tous ceux rassemblés au nom du Christ.\n– Parce que c’est l’un des rares moments de l’année où tout le clergé (évêques\, prêtres et diacres) est réuni.\n\nPour aller plus loin : \n\n– Dossier sur la Semaine Sainte et la fête de Pâques [ à lire sur le site de l’Eglise Catholique en France ]\n– Quel est le sens du Chemin de croix ? [ à lire sur le site de l’Eglise Catholique en France ]\n– Baptisés dans la nuit de Pâques\, qui sont les catéchumènes ? [ à lire sur le site de l’Eglise Catholique en France ]
URL:https://saintbrieuc-treguier.catholique.fr/event/messe-chrismale-2026/
LOCATION:Cathédrale Saint-Etienne\, Place Général de Gaulle\, Saint-Brieuc\, 22000\, France
CATEGORIES:Évènements diocésains
END:VEVENT
BEGIN:VEVENT
DTSTART;VALUE=DATE:20260405
DTEND;VALUE=DATE:20260406
DTSTAMP:20260425T212812
CREATED:20260318T131317Z
LAST-MODIFIED:20260318T131317Z
UID:44416-1775347200-1775433599@saintbrieuc-treguier.catholique.fr
SUMMARY:Pâques 2026
DESCRIPTION:Pâques est la fête la plus importante pour les chrétiens. Elle célèbre la Résurrection du Christ\, sa victoire sur la mort qui est l’élément central de la foi chrétienne. Elle est la fête chrétienne la plus ancienne et la fête centrale de l’année liturgique. La célébration de la fête de Pâques est l’occasion pour les chrétiens de renouveler leur profession de foi baptismale. C’est la raison pour laquelle les adultes demandant le baptême (les catéchumènes) sont baptisés dans leurs paroisses pendant la Vigile pascale. Le cierge pascal\, symbole de la présence du Christ\, est alors allumé et brillera du dimanche de Pâques à celui de la Pentecôte. La Résurrection du Christ est l’accomplissement des promesses faites par Dieu à son peuple. C’est pourquoi la fête de Pâques\, célébrée par une messe solennelle\, est le sommet du calendrier liturgique chrétien. Ce jour d’allégresse est marqué dans les églises par la couleur blanche ou dorée\, symbole de joie et de lumière. \n« Pourquoi cherchez-vous le Vivant parmi les morts ? Il n’est pas ici\, il est ressuscité. » (Luc 24) Les évangiles font le récit des événements du dimanche matin qui a suivi la mort de Jésus\, lorsque les disciples de Jésus (les apôtres et les saintes femmes) ont trouvé son tombeau vide. Ils racontent aussi que Jésus leur est apparu à de nombreuses reprises dans des circonstances diverses pendant 40 jours jusqu’à une dernière apparition\, lorsqu’ils l’ont vu monter au Ciel. \nLes origines de la fête de Pâques. Étymologiquement\, Pâques signifie « passage ». La fête chrétienne de Pâques trouve ses racines dans la fête juive de la Pâque\, qui célèbre le passage de la Mer rouge par les Hébreux lors de la libération d’Égypte. Depuis la Résurrection du Christ\, c’est la célébration du passage avec lui de la mort à la vie que les chrétiens célèbrent. Par sa Résurrection\, le Christ sauve l’Homme du péché et l’appelle à la vie éternelle. \nGrâce au site  Messes Info\, retrouvez les lieux et horaires des célébrations dans les Côtes d’Armor : messes.info/horaires/diocese:br%20paques \nPour aller plus loin : \n\n\nPourquoi parle-t-on des cloches de Pâques ? \n\n\nQue dit la Bible sur Pâques ? \n\n\nPourquoi la date de Pâques change-t-elle tous les ans ? \n\n\nQui sont les catéchumènes ? \n\n\n[ En savoir plus sur le site de la Conférence des Evêques de France ]
URL:https://saintbrieuc-treguier.catholique.fr/event/paques-2026/
CATEGORIES:Évènements diocésains
END:VEVENT
BEGIN:VEVENT
DTSTART;TZID=Europe/Paris:20260412T173000
DTEND;TZID=Europe/Paris:20260412T173000
DTSTAMP:20260425T212812
CREATED:20260309T141027Z
LAST-MODIFIED:20260309T141027Z
UID:44298-1776015000-1776015000@saintbrieuc-treguier.catholique.fr
SUMMARY:Session de clôture des enquêtes concernant Claude et Marguerite de la Garaye
DESCRIPTION:Dimanche 12 avril 2026 (17h30) à la Cathédrale de Saint-Brieuc : session de clôture des enquêtes concernant Claude et Marguerite de la Garaye ouverte à tous. \nLe 22 septembre 2024\, Monseigneur Denis Moutel a solennellement ouvert à Dinan les deux enquêtes canoniques diocésaines\, concernant l’une Claude-Toussaint de La Garaye\, l’autre son épouse Marie-Marguerite Picquet de La Motte en vue de la béatification et de la canonisation des Epoux La Garaye. Ces deux enquêtes sont maintenant terminées. \nIl revient à Monseigneur Denis Moutel de clore cette phase préparatoire. Il le fera le dimanche 12 avril prochain à 17h30 (dimanche de la Miséricorde) à la cathédrale Saint-Etienne de Saint-Brieuc. Au terme de cette rencontre\, le Frère dominicain Jean-Marie Gueullette (couvent de Rennes) présentera son ouvrage consacré aux Epoux La Garaye : « Pour le bien des pauvres. Vie de Claude et Marguerite de la Garaye » (Editions du Cerf\, Paris)\, en librairie le 9 avril 2026. Commencera alors à Rome\, particulièrement auprès du Dicastère pour les causes des saints\, une autre phase pour cette double enquête. \nLa procédure de béatification et de canonisation le prévoyant explicitement\, Monseigneur Denis Moutel a voulu que la clôture de cette phase se fasse en présence du Peuple de Dieu rassemblé dans sa cathédrale. Il nous invite à le rejoindre pour ce moment fort de notre Eglise diocésaine qui se prolongera par la célébration solennelle des vêpres avec le concours de la Manécanterie de notre cathédrale et du groupe Avelig. \nNB : prêtres et diacres voudront bien se munir de leur aube et étole de couleur blanche pour le chant des vêpres. \nÉpoux Claude et Marguerite de la Garaye (©Charles Montécot)
URL:https://saintbrieuc-treguier.catholique.fr/event/session-cloture-enquetes-claude-marguerite-de-la-garaye/
LOCATION:Cathédrale Saint-Etienne\, Place Général de Gaulle\, Saint-Brieuc\, 22000\, France
CATEGORIES:Évènements diocésains
END:VEVENT
END:VCALENDAR